BEGIN:VCALENDAR
VERSION:2.0
PRODID:-//Michael Weiland - ECPv5.16.4//NONSGML v1.0//EN
CALSCALE:GREGORIAN
METHOD:PUBLISH
X-WR-CALNAME:Michael Weiland
X-ORIGINAL-URL:http://www.michaelweiland.at
X-WR-CALDESC:Veranstaltungen für Michael Weiland
BEGIN:VTIMEZONE
TZID:Europe/Vienna
BEGIN:DAYLIGHT
TZOFFSETFROM:+0100
TZOFFSETTO:+0200
TZNAME:CEST
DTSTART:20230326T010000
END:DAYLIGHT
BEGIN:STANDARD
TZOFFSETFROM:+0200
TZOFFSETTO:+0100
TZNAME:CET
DTSTART:20231029T010000
END:STANDARD
END:VTIMEZONE
BEGIN:VEVENT
DTSTART;TZID=Europe/Vienna:20230514T110000
DTEND;TZID=Europe/Vienna:20230514T130000
DTSTAMP:20260422T161825
CREATED:20230422T140515Z
LAST-MODIFIED:20230422T140840Z
UID:1280-1684062000-1684069200@www.michaelweiland.at
SUMMARY:Stolz auf Stolz - Muttertagskonzert
DESCRIPTION:Stolz auf Stolz\nim Brucker Stadttheater\, Raiffeisengürtel 43\, 2640 Bruck/Leitha\, 14. Mai 2023\, 11:00 Uhr \nStolz auf Stolz\nElisabeth Jahrmann und Michael Weiland widmen sich am diesjährigen Muttertag dem großen Robert Stolz. \nGenießen Sie die weltbekannten Melodien des musikalischen Großmeisters und lernen Robert Stolz von einer ganz besonderen Seite kennen. \nElisabeth Jahrmann und Michael Weiland freuen sich schon auf ihr Stammpublikum und alle Fans der Operette und der Wiener Gesangskultur. \nSeien Sie gespannt und schauen Sie sich das an! \nIn gewohnter Manier werden Sie nicht nur musikalisch\, sondern auch kulinarisch verwöhnt. Genießen Sie ein paar „guate Tropfen“ und hausgemachte Köstlichkeiten. \nSichern Sie sich schon jetzt Ihre Tickets für das Konzert der ganz besonderen Art.\nBrucker Stadttheater\, Raiffeisengürtel 43\, 2460 Bruck an der Leitha \nWann: Sonntag\, 14. Mai 2023\, 11:00 Uhr \nWo: Stadttheater Bruck/Leitha\, Raiffeisengürtel 43\, 2460 Bruck/Leitha \nTelefonnummer zur Kartenreservierung: \n+43 660 / 50 33 582     \nKartenpreise: Vorverkauf 25\,- Euro \nAbendkassa: 28\,- Euro
URL:http://www.michaelweiland.at/event/stolz-auf-stolz-muttertagskonzert/
LOCATION:Stadttheater Bruck a. d. Leitha\, Raiffeisengürtel 43\, Bruck/Leitha\, 2460\, Österreich
CATEGORIES:Operette
ATTACH;FMTTYPE=image/png:http://www.michaelweiland.at/wp-content/uploads/2023/04/LiMi-Muttertagskonzert-Weiche-Kanten.png
ORGANIZER;CN="Jahrmann%20Kulturmanagement":MAILTO:info@jahrmann.cc
END:VEVENT
END:VCALENDAR